BEGIN:VCALENDAR
VERSION:2.0
PRODID:-//Mustang Passion France - ECPv6.15.20//NONSGML v1.0//EN
CALSCALE:GREGORIAN
METHOD:PUBLISH
X-WR-CALNAME:Mustang Passion France
X-ORIGINAL-URL:https://mustangpassion.fr
X-WR-CALDESC:Évènements pour Mustang Passion France
REFRESH-INTERVAL;VALUE=DURATION:PT1H
X-Robots-Tag:noindex
X-PUBLISHED-TTL:PT1H
BEGIN:VTIMEZONE
TZID:Europe/Paris
BEGIN:DAYLIGHT
TZOFFSETFROM:+0100
TZOFFSETTO:+0200
TZNAME:CEST
DTSTART:20250330T010000
END:DAYLIGHT
BEGIN:STANDARD
TZOFFSETFROM:+0200
TZOFFSETTO:+0100
TZNAME:CET
DTSTART:20251026T010000
END:STANDARD
BEGIN:DAYLIGHT
TZOFFSETFROM:+0100
TZOFFSETTO:+0200
TZNAME:CEST
DTSTART:20260329T010000
END:DAYLIGHT
BEGIN:STANDARD
TZOFFSETFROM:+0200
TZOFFSETTO:+0100
TZNAME:CET
DTSTART:20261025T010000
END:STANDARD
BEGIN:DAYLIGHT
TZOFFSETFROM:+0100
TZOFFSETTO:+0200
TZNAME:CEST
DTSTART:20270328T010000
END:DAYLIGHT
BEGIN:STANDARD
TZOFFSETFROM:+0200
TZOFFSETTO:+0100
TZNAME:CET
DTSTART:20271031T010000
END:STANDARD
END:VTIMEZONE
BEGIN:VEVENT
DTSTART;VALUE=DATE:20260912
DTEND;VALUE=DATE:20260914
DTSTAMP:20260423T033852
CREATED:20260202T143526Z
LAST-MODIFIED:20260320T204340Z
UID:3099-1789171200-1789343999@mustangpassion.fr
SUMMARY:Journée découverte AutoDetailing à Reims (51)
DESCRIPTION:Frédéric SEGOND\, notre délégué Champagne nous propose une Journée découverte des activités de la société AutoDetailing à Reims (51) : Reprogrammation Moteur & Ethanol\, Polissage & vernissage Carrosserie\, Traitement Céramique\, Films de protection Carrosserie\, Nettoyage Haut de Gamme\, Débosselage\, Covering\, Housses de protection\, \nDate à venir
URL:https://mustangpassion.fr/event/journee-decouverte-autodetailing-a-reims-51/
CATEGORIES:Evénement Club,Sorties Club
ATTACH;FMTTYPE=image/png:https://mustangpassion.fr/wp-content/uploads/2026/02/dETAILING.png
END:VEVENT
BEGIN:VEVENT
DTSTART;VALUE=DATE:20260912
DTEND;VALUE=DATE:20260914
DTSTAMP:20260423T033852
CREATED:20260315T161255Z
LAST-MODIFIED:20260315T161255Z
UID:3449-1789171200-1789343999@mustangpassion.fr
SUMMARY:100 ans du circuit de Gueux
DESCRIPTION:Centenaire du Circuit de Reims-Gueux à l’ouest de Reims. \nUn siècle de vitesse\, d’exploits mécaniques et de passion automobile\, ça se célèbre comme il se doit ! \n1926 – 2026 :  L’association des Passionnés du Circuit de la Marne organise le Centenaire de notre Circuit de REIMS-GUEUX les 12 et 13 septembre 2026. \nAu programme\, voitures mythiques\, démonstrations\, parades\, stands exposants\, animations\, feu artifice… \nUne ambiance unique sur un site légendaire\, un week-end exceptionnel pour revivre l’âge d’or du sport automobile et rendre hommage à un circuit mythique qui a marqué l’histoire. \nInfos mail :    centenairecircuitreims@gmail.com \nRV le 12 et 13 Septembre 2026 sur le Circuit de Reims-Gueux sur la D27. \nUn évènement auto vintage à ne pas manquer dans la Marne !
URL:https://mustangpassion.fr/event/100-ans-du-circuit-de-gueux/
ATTACH;FMTTYPE=image/jpeg:https://mustangpassion.fr/wp-content/uploads/2026/03/17659628021891339937.jpg
END:VEVENT
BEGIN:VEVENT
DTSTART;VALUE=DATE:20260913
DTEND;VALUE=DATE:20260914
DTSTAMP:20260423T033852
CREATED:20251222T081804Z
LAST-MODIFIED:20251222T082040Z
UID:3028-1789257600-1789343999@mustangpassion.fr
SUMMARY:IDF : CHANTILLY ARTS & ELEGANCE RICHARD MILLE
DESCRIPTION:Week-End exceptionnel pour les amoureaux des belles mécaniques et des belles courbes. \nLe club de Frédéric ROULLEAU sera présent à cette manifestation et nous propose de les rejoindre. \nPost Forum : ICI
URL:https://mustangpassion.fr/event/idf-chantilly-arts-elegance-richard-mille/
ATTACH;FMTTYPE=image/jpeg:https://mustangpassion.fr/wp-content/uploads/2025/12/Chantilly.jpg
END:VEVENT
BEGIN:VEVENT
DTSTART;VALUE=DATE:20260926
DTEND;VALUE=DATE:20260928
DTSTAMP:20260423T033852
CREATED:20260121T162349Z
LAST-MODIFIED:20260121T162432Z
UID:3078-1790380800-1790553599@mustangpassion.fr
SUMMARY:AUTO RETRO à BRAY SUR SEINE
DESCRIPTION:Rendez – vous annuel 
URL:https://mustangpassion.fr/event/bray-sur-seine/
ATTACH;FMTTYPE=image/jpeg:https://mustangpassion.fr/wp-content/uploads/2026/01/Braye-sur-seine.jpg
END:VEVENT
END:VCALENDAR