BEGIN:VCALENDAR
VERSION:2.0
PRODID:-//Mustang Passion France - ECPv6.15.20//NONSGML v1.0//EN
CALSCALE:GREGORIAN
METHOD:PUBLISH
X-ORIGINAL-URL:https://mustangpassion.fr
X-WR-CALDESC:Évènements pour Mustang Passion France
REFRESH-INTERVAL;VALUE=DURATION:PT1H
X-Robots-Tag:noindex
X-PUBLISHED-TTL:PT1H
BEGIN:VTIMEZONE
TZID:Europe/Paris
BEGIN:DAYLIGHT
TZOFFSETFROM:+0100
TZOFFSETTO:+0200
TZNAME:CEST
DTSTART:20250330T010000
END:DAYLIGHT
BEGIN:STANDARD
TZOFFSETFROM:+0200
TZOFFSETTO:+0100
TZNAME:CET
DTSTART:20251026T010000
END:STANDARD
BEGIN:DAYLIGHT
TZOFFSETFROM:+0100
TZOFFSETTO:+0200
TZNAME:CEST
DTSTART:20260329T010000
END:DAYLIGHT
BEGIN:STANDARD
TZOFFSETFROM:+0200
TZOFFSETTO:+0100
TZNAME:CET
DTSTART:20261025T010000
END:STANDARD
BEGIN:DAYLIGHT
TZOFFSETFROM:+0100
TZOFFSETTO:+0200
TZNAME:CEST
DTSTART:20270328T010000
END:DAYLIGHT
BEGIN:STANDARD
TZOFFSETFROM:+0200
TZOFFSETTO:+0100
TZNAME:CET
DTSTART:20271031T010000
END:STANDARD
END:VTIMEZONE
BEGIN:VEVENT
DTSTART;VALUE=DATE:20260315
DTEND;VALUE=DATE:20260316
DTSTAMP:20260422T125119
CREATED:20260121T161847Z
LAST-MODIFIED:20260121T161847Z
UID:3075-1773532800-1773619199@mustangpassion.fr
SUMMARY:LE 15 mars 2026 : FOX RUN 2026
DESCRIPTION:Organisation du FOX RUN 2026 par Eric P. et Bruno L.\nToutes les informations et bulletin inscription à venir.\nLien vers le forum : ICI
URL:https://mustangpassion.fr/event/le-15-mars-2026-fox-run-2026/
CATEGORIES:Sorties Club
ATTACH;FMTTYPE=image/jpeg:https://mustangpassion.fr/wp-content/uploads/2026/01/Gendarmerie.jpg
END:VEVENT
BEGIN:VEVENT
DTSTART;VALUE=DATE:20260320
DTEND;VALUE=DATE:20260323
DTSTAMP:20260422T125119
CREATED:20251219T203548Z
LAST-MODIFIED:20251219T204118Z
UID:2973-1773964800-1774223999@mustangpassion.fr
SUMMARY:PACA : MOTOR PASSION AVIGNON
DESCRIPTION:Motor Passion 2026 Rendez-vous incontournable pour les amateurs de véhicules de collection et de prestige !\nLe milieu des véhicules de collection déborde d’enthousiastes de toutes générations confondues ! Que l’on soit passionné de voitures\, de motos\, de tracteurs\, de camions et même de modèles réduits\, nous sommes tous unis par ce fabuleux monde de la mécanique et des locomotions.\nCe côté « passionné » nous le retrouvons dans l’organisation de « Motor Passion ». Avignon Tourisme s’appuie sur les membres de l’Association des Amis du Circuit d’Avignon Vaucluse\, créateurs des « Grands Prix Historiques » en Avignon de 1989 à 1994 qui apportent toute leur expérience et leur savoir-faire dans cet évènement.\nSur un espace de 50 000 m2 vous retrouverez :\ndes expositions de qualité\, des clubs\, des professionnels de la vente de véhicules et de pièces détachées et de nombreuses animations tout au long du week-end !
URL:https://mustangpassion.fr/event/paca-motor-passion-avignon/
ATTACH;FMTTYPE=image/jpeg:https://mustangpassion.fr/wp-content/uploads/2025/12/Motor-ppassion.jpg
END:VEVENT
BEGIN:VEVENT
DTSTART;VALUE=DATE:20260327
DTEND;VALUE=DATE:20260330
DTSTAMP:20260422T125119
CREATED:20260315T160623Z
LAST-MODIFIED:20260315T160623Z
UID:3444-1774569600-1774828799@mustangpassion.fr
SUMMARY:Balade dans les Cévennes
DESCRIPTION:Le club Mustang Therapy nous propose de les rejoindre pour un week-end dans les Cévennes. Même conditions que pour leurs adhérents.\nDélai de réponse avant le 7 mars si possible ! \nPost forum : ICI
URL:https://mustangpassion.fr/event/balade-dans-les-cevennes/
ATTACH;FMTTYPE=image/jpeg:https://mustangpassion.fr/wp-content/uploads/2026/03/Capture-decran-2026-02-27-190342.jpg
END:VEVENT
END:VCALENDAR