BEGIN:VCALENDAR
VERSION:2.0
PRODID:-//Mustang Passion France - ECPv6.15.20//NONSGML v1.0//EN
CALSCALE:GREGORIAN
METHOD:PUBLISH
X-ORIGINAL-URL:https://mustangpassion.fr
X-WR-CALDESC:Évènements pour Mustang Passion France
REFRESH-INTERVAL;VALUE=DURATION:PT1H
X-Robots-Tag:noindex
X-PUBLISHED-TTL:PT1H
BEGIN:VTIMEZONE
TZID:Europe/Paris
BEGIN:DAYLIGHT
TZOFFSETFROM:+0100
TZOFFSETTO:+0200
TZNAME:CEST
DTSTART:20240331T010000
END:DAYLIGHT
BEGIN:STANDARD
TZOFFSETFROM:+0200
TZOFFSETTO:+0100
TZNAME:CET
DTSTART:20241027T010000
END:STANDARD
BEGIN:DAYLIGHT
TZOFFSETFROM:+0100
TZOFFSETTO:+0200
TZNAME:CEST
DTSTART:20250330T010000
END:DAYLIGHT
BEGIN:STANDARD
TZOFFSETFROM:+0200
TZOFFSETTO:+0100
TZNAME:CET
DTSTART:20251026T010000
END:STANDARD
BEGIN:DAYLIGHT
TZOFFSETFROM:+0100
TZOFFSETTO:+0200
TZNAME:CEST
DTSTART:20260329T010000
END:DAYLIGHT
BEGIN:STANDARD
TZOFFSETFROM:+0200
TZOFFSETTO:+0100
TZNAME:CET
DTSTART:20261025T010000
END:STANDARD
END:VTIMEZONE
BEGIN:VEVENT
DTSTART;VALUE=DATE:20251004
DTEND;VALUE=DATE:20251005
DTSTAMP:20260424T054636
CREATED:20250910T110839Z
LAST-MODIFIED:20250910T111007Z
UID:2793-1759536000-1759622399@mustangpassion.fr
SUMMARY:IDF : LA VIREE GATINAISE 3 eme Edition EASY VINTAGE CAR Fromont (77)
DESCRIPTION:Notre partenaire EASY VINTAGE CARS organise la 3 eme edition de la VIREE GATINAISE LE 04 octobre 2025.\nEmbarquez pour un rallye d’orientation ludique d’environ 170 km sur les routes du Gâtinais. \nC’est l’occasion idéale de profiter de votre voiture\, de vous amuser en famille et d’échanger avec d’autres passionnés. \nLien Forum
URL:https://mustangpassion.fr/event/idf-la-viree-gatinaise-3-eme-edition-easy-vintage-car-fromont-77/
ATTACH;FMTTYPE=image/jpeg:https://mustangpassion.fr/wp-content/uploads/2025/09/Viree-Gatinaise.jpg
END:VEVENT
BEGIN:VEVENT
DTSTART;VALUE=DATE:20251011
DTEND;VALUE=DATE:20251013
DTSTAMP:20260424T054636
CREATED:20241214T132247Z
LAST-MODIFIED:20250205T121845Z
UID:1970-1760140800-1760313599@mustangpassion.fr
SUMMARY:LUXEMBOURG : INTERNATIONAL MUSTANG MEETING
DESCRIPTION:Comme chaque année le VINTAGE MUSTANG CLUB du Luxembourg organise cet événement. Cette année il sera l’occasion de fêter le 35ème anniversaire de ce club. \nLien Forum : INTERNATIONAL MUSTANG MEETING
URL:https://mustangpassion.fr/event/international-mustang-meeting/
CATEGORIES:Présence Club
ATTACH;FMTTYPE=image/jpeg:https://mustangpassion.fr/wp-content/uploads/2024/12/FB_IMG_1734108969766.jpg
END:VEVENT
BEGIN:VEVENT
DTSTART;TZID=Europe/Paris:20251012T100000
DTEND;TZID=Europe/Paris:20251012T160000
DTSTAMP:20260424T054636
CREATED:20251006T090155Z
LAST-MODIFIED:20251006T090155Z
UID:2809-1760263200-1760284800@mustangpassion.fr
SUMMARY:PACA : GRAND RASSEMBLEMENT VL US à HYERES 83
DESCRIPTION:grand rassemblement de VL US à l’AYGUADE 83400 HYERES\norganisé par AMERI’CARS 83.\nINSCRIPTIONS SUR FB AMERI’CARS 83 ou PAR MAIL americars83groupe@gmail.com\nUne parade est envisagée de 11h à 11h30 front de mer de l’Ayguade à l’aéroport aller-retour !\nPour les inscriptions\, préciser marque\, modèle\, année du véhicule et n’oubliez pas de\npréciser si vous participez à la parade (fin de matinée vers 11h) ou si le véhicule sera en\nstatique. \nLien Forum : ICI
URL:https://mustangpassion.fr/event/paca-grand-rassemblement-vl-us-a-hyeres-83/
ATTACH;FMTTYPE=image/jpeg:https://mustangpassion.fr/wp-content/uploads/2025/10/PACA-12-octobre.jpg
END:VEVENT
BEGIN:VEVENT
DTSTART;VALUE=DATE:20251031
DTEND;VALUE=DATE:20251103
DTSTAMP:20260424T054636
CREATED:20250611T103736Z
LAST-MODIFIED:20250611T103736Z
UID:2635-1761868800-1762127999@mustangpassion.fr
SUMMARY:PACA : LES 2 TOURS D’HORLOGE LE CASTELLET 83
DESCRIPTION:Les 2 Tours d’Horloge\, l’unique compétition au monde de 24 heures ininterrompues réservée aux Véhicules Historiques de Compétition\, se dérouleront les 31 octobre\, 1er et 2 novembre sur le mythique Circuit Paul Ricard. L’épreuve sera accessible aux GT/Tourisme (jusqu’à 1990)\, Sport-Prototypes (jusqu’à 1976) et Sports 2000 (jusqu’à 1986)\, sans utilisation possible de pneus slicks. Les équipages pourront être composés de 2\, 3 ou 4 pilotes. Trois plateaux viendront compléter le meeting : \n\nl’ASAVE Racing 65 réservé aux GT\, Tourisme et Sports bi-place moteur avant d’avant 66 (1 séance d’essais privés de 30 min\, 1 séance d’essais qualificatifs de 30 min et 2 courses de 45 min)\nl’ASAVE Racing 76 réservé aux GT et Tourisme de 1966 à 1976 (1 séance d’essais privés de 30 min\, 1 séance d’essais qualificatifs de 30 min et 2 courses de 45 min) ; Toutes les informations sur asave.fr.\n\n\nLe Trophée Lotus\, réservé aux Lotus Seven des années 60 et de Caterham 1600 kent des années 80 et 90 (1 séance d’essais privés de 20 min\, 1 séance d’essais qualificatifs de 20 min et 2 courses de 30 min)\n\nLes voitures anciennes et sportives seront mises l’honneur grâce à un espace paddock dédié et à la parade des clubs et collectionneurs.\nAccès public tribune du Grand Prix Burger (Xtrem Park) 10h-18h. Paddocks réservés aux concurrents et personnes accréditées.\n \nCliquez ici
URL:https://mustangpassion.fr/event/paca-les-2-tours-dhorloge-le-castellet-83/
ATTACH;FMTTYPE=image/jpeg:https://mustangpassion.fr/wp-content/uploads/2025/06/2-tours.jpg
END:VEVENT
END:VCALENDAR