BEGIN:VCALENDAR
VERSION:2.0
PRODID:-//Mustang Passion France - ECPv6.15.20//NONSGML v1.0//EN
CALSCALE:GREGORIAN
METHOD:PUBLISH
X-ORIGINAL-URL:https://mustangpassion.fr
X-WR-CALDESC:Évènements pour Mustang Passion France
REFRESH-INTERVAL;VALUE=DURATION:PT1H
X-Robots-Tag:noindex
X-PUBLISHED-TTL:PT1H
BEGIN:VTIMEZONE
TZID:Europe/Paris
BEGIN:DAYLIGHT
TZOFFSETFROM:+0100
TZOFFSETTO:+0200
TZNAME:CEST
DTSTART:20250330T010000
END:DAYLIGHT
BEGIN:STANDARD
TZOFFSETFROM:+0200
TZOFFSETTO:+0100
TZNAME:CET
DTSTART:20251026T010000
END:STANDARD
BEGIN:DAYLIGHT
TZOFFSETFROM:+0100
TZOFFSETTO:+0200
TZNAME:CEST
DTSTART:20260329T010000
END:DAYLIGHT
BEGIN:STANDARD
TZOFFSETFROM:+0200
TZOFFSETTO:+0100
TZNAME:CET
DTSTART:20261025T010000
END:STANDARD
BEGIN:DAYLIGHT
TZOFFSETFROM:+0100
TZOFFSETTO:+0200
TZNAME:CEST
DTSTART:20270328T010000
END:DAYLIGHT
BEGIN:STANDARD
TZOFFSETFROM:+0200
TZOFFSETTO:+0100
TZNAME:CET
DTSTART:20271031T010000
END:STANDARD
END:VTIMEZONE
BEGIN:VEVENT
DTSTART;VALUE=DATE:20260201
DTEND;VALUE=DATE:20260202
DTSTAMP:20260420T210434
CREATED:20251121T223503Z
LAST-MODIFIED:20251121T223517Z
UID:2916-1769904000-1769990399@mustangpassion.fr
SUMMARY:PACA : C'EST LA CHANDELEUR !
DESCRIPTION:retour du soleil attendu en cette fin d’hiver.\nBalade en bord de mer et dégustation de crêpes à Carqueiranne. \nContact : paca@mustangpassion.fr
URL:https://mustangpassion.fr/event/paca-cest-la-chandeleur/
CATEGORIES:Sorties Club
ATTACH;FMTTYPE=image/png:https://mustangpassion.fr/wp-content/uploads/2025/11/Chandeleur.png
END:VEVENT
END:VCALENDAR