BEGIN:VCALENDAR
VERSION:2.0
PRODID:-//Mustang Passion France - ECPv6.15.20//NONSGML v1.0//EN
CALSCALE:GREGORIAN
METHOD:PUBLISH
X-ORIGINAL-URL:https://mustangpassion.fr
X-WR-CALDESC:Évènements pour Mustang Passion France
REFRESH-INTERVAL;VALUE=DURATION:PT1H
X-Robots-Tag:noindex
X-PUBLISHED-TTL:PT1H
BEGIN:VTIMEZONE
TZID:Europe/Paris
BEGIN:DAYLIGHT
TZOFFSETFROM:+0100
TZOFFSETTO:+0200
TZNAME:CEST
DTSTART:20250330T010000
END:DAYLIGHT
BEGIN:STANDARD
TZOFFSETFROM:+0200
TZOFFSETTO:+0100
TZNAME:CET
DTSTART:20251026T010000
END:STANDARD
BEGIN:DAYLIGHT
TZOFFSETFROM:+0100
TZOFFSETTO:+0200
TZNAME:CEST
DTSTART:20260329T010000
END:DAYLIGHT
BEGIN:STANDARD
TZOFFSETFROM:+0200
TZOFFSETTO:+0100
TZNAME:CET
DTSTART:20261025T010000
END:STANDARD
BEGIN:DAYLIGHT
TZOFFSETFROM:+0100
TZOFFSETTO:+0200
TZNAME:CEST
DTSTART:20270328T010000
END:DAYLIGHT
BEGIN:STANDARD
TZOFFSETFROM:+0200
TZOFFSETTO:+0100
TZNAME:CET
DTSTART:20271031T010000
END:STANDARD
END:VTIMEZONE
BEGIN:VEVENT
DTSTART;VALUE=DATE:20260613
DTEND;VALUE=DATE:20260614
DTSTAMP:20260420T193108
CREATED:20251219T211126Z
LAST-MODIFIED:20260131T020724Z
UID:2995-1781308800-1781395199@mustangpassion.fr
SUMMARY:RALLYE DES AMAZONES 2026 AU PROFIT DE L'ASSOCIATION SKIN / ORGANISATION : EASY VINTAGE CARS
DESCRIPTION:Rallye des Amazones : 7e édition juin 2026 !\nUn rallye d’orientation ludique\, accessible aux voitures de collection\, Youngtimers & GT modernes d’exception.​\nParticipation ouverte à tous\, hommes ou femmes !\nUn parcours plaisir avec un road-book exclusif ! Entre défis\, découvertes et animations\, la journée vous réserve son lot de surprises.\nUn rallye engagé : les « Skinettes » embarquent dans l’aventure ! Parce-que rouler\, c’est aussi partager.
URL:https://mustangpassion.fr/event/rallye-des-amazones-2026-au-profit-de-lassociation-skin-organisation-easy-vintage-cars/
CATEGORIES:Sorties Club
ATTACH;FMTTYPE=image/jpeg:https://mustangpassion.fr/wp-content/uploads/2025/12/SKIN.jpg
END:VEVENT
BEGIN:VEVENT
DTSTART;VALUE=DATE:20260620
DTEND;VALUE=DATE:20260622
DTSTAMP:20260420T193108
CREATED:20251222T080824Z
LAST-MODIFIED:20251222T082213Z
UID:3023-1781913600-1782086399@mustangpassion.fr
SUMMARY:CH'TITE SORTIE 6 EME édition
DESCRIPTION:Notre délégué HDF et son fidéle complice nous enménerons dans l’Est Ternois et la Belgique. \nPost Forum : ICI
URL:https://mustangpassion.fr/event/chtite-sortie-6-eme-edition/
CATEGORIES:Sorties Club
ATTACH;FMTTYPE=image/jpeg:https://mustangpassion.fr/wp-content/uploads/2025/12/Ternois-1.jpg
END:VEVENT
END:VCALENDAR