BEGIN:VCALENDAR
VERSION:2.0
PRODID:-//Mustang Passion France - ECPv6.15.20//NONSGML v1.0//EN
CALSCALE:GREGORIAN
METHOD:PUBLISH
X-ORIGINAL-URL:https://mustangpassion.fr
X-WR-CALDESC:Évènements pour Mustang Passion France
REFRESH-INTERVAL;VALUE=DURATION:PT1H
X-Robots-Tag:noindex
X-PUBLISHED-TTL:PT1H
BEGIN:VTIMEZONE
TZID:Europe/Paris
BEGIN:DAYLIGHT
TZOFFSETFROM:+0100
TZOFFSETTO:+0200
TZNAME:CEST
DTSTART:20250330T010000
END:DAYLIGHT
BEGIN:STANDARD
TZOFFSETFROM:+0200
TZOFFSETTO:+0100
TZNAME:CET
DTSTART:20251026T010000
END:STANDARD
BEGIN:DAYLIGHT
TZOFFSETFROM:+0100
TZOFFSETTO:+0200
TZNAME:CEST
DTSTART:20260329T010000
END:DAYLIGHT
BEGIN:STANDARD
TZOFFSETFROM:+0200
TZOFFSETTO:+0100
TZNAME:CET
DTSTART:20261025T010000
END:STANDARD
BEGIN:DAYLIGHT
TZOFFSETFROM:+0100
TZOFFSETTO:+0200
TZNAME:CEST
DTSTART:20270328T010000
END:DAYLIGHT
BEGIN:STANDARD
TZOFFSETFROM:+0200
TZOFFSETTO:+0100
TZNAME:CET
DTSTART:20271031T010000
END:STANDARD
END:VTIMEZONE
BEGIN:VEVENT
DTSTART;VALUE=DATE:20260315
DTEND;VALUE=DATE:20260316
DTSTAMP:20260420T180937
CREATED:20260121T161847Z
LAST-MODIFIED:20260121T161847Z
UID:3075-1773532800-1773619199@mustangpassion.fr
SUMMARY:LE 15 mars 2026 : FOX RUN 2026
DESCRIPTION:Organisation du FOX RUN 2026 par Eric P. et Bruno L.\nToutes les informations et bulletin inscription à venir.\nLien vers le forum : ICI
URL:https://mustangpassion.fr/event/le-15-mars-2026-fox-run-2026/
CATEGORIES:Sorties Club
ATTACH;FMTTYPE=image/jpeg:https://mustangpassion.fr/wp-content/uploads/2026/01/Gendarmerie.jpg
END:VEVENT
END:VCALENDAR