BEGIN:VCALENDAR
VERSION:2.0
PRODID:-//Mustang Passion France - ECPv6.15.20//NONSGML v1.0//EN
CALSCALE:GREGORIAN
METHOD:PUBLISH
X-WR-CALNAME:Mustang Passion France
X-ORIGINAL-URL:https://mustangpassion.fr
X-WR-CALDESC:Évènements pour Mustang Passion France
REFRESH-INTERVAL;VALUE=DURATION:PT1H
X-Robots-Tag:noindex
X-PUBLISHED-TTL:PT1H
BEGIN:VTIMEZONE
TZID:Europe/Paris
BEGIN:DAYLIGHT
TZOFFSETFROM:+0100
TZOFFSETTO:+0200
TZNAME:CEST
DTSTART:20240331T010000
END:DAYLIGHT
BEGIN:STANDARD
TZOFFSETFROM:+0200
TZOFFSETTO:+0100
TZNAME:CET
DTSTART:20241027T010000
END:STANDARD
BEGIN:DAYLIGHT
TZOFFSETFROM:+0100
TZOFFSETTO:+0200
TZNAME:CEST
DTSTART:20250330T010000
END:DAYLIGHT
BEGIN:STANDARD
TZOFFSETFROM:+0200
TZOFFSETTO:+0100
TZNAME:CET
DTSTART:20251026T010000
END:STANDARD
BEGIN:DAYLIGHT
TZOFFSETFROM:+0100
TZOFFSETTO:+0200
TZNAME:CEST
DTSTART:20260329T010000
END:DAYLIGHT
BEGIN:STANDARD
TZOFFSETFROM:+0200
TZOFFSETTO:+0100
TZNAME:CET
DTSTART:20261025T010000
END:STANDARD
END:VTIMEZONE
BEGIN:VEVENT
DTSTART;VALUE=DATE:20250529
DTEND;VALUE=DATE:20250602
DTSTAMP:20260422T190230
CREATED:20240926T123142Z
LAST-MODIFIED:20241113T141255Z
UID:1394-1748476800-1748822399@mustangpassion.fr
SUMMARY:ROADTRIP ALSACIEN MPF
DESCRIPTION:Le projet : se retrouver soit le mercredi soir soit le jeudi midi…visite de vigneron/brasserie\, musée automobile et bien d’autres choses encore…un week-end assez intense \nLien vers le Forum MPF
URL:https://mustangpassion.fr/event/roadtrip-alsacien-mpf/
LOCATION:Départements 67 & 68
CATEGORIES:Sorties Club
ATTACH;FMTTYPE=image/jpeg:https://mustangpassion.fr/wp-content/uploads/2024/09/ALSACE.jpg
END:VEVENT
BEGIN:VEVENT
DTSTART;VALUE=DATE:20250607
DTEND;VALUE=DATE:20250609
DTSTAMP:20260422T190230
CREATED:20241023T061942Z
LAST-MODIFIED:20250317T064516Z
UID:1584-1749254400-1749427199@mustangpassion.fr
SUMMARY:MORNAY (23) : MUSTANG TRACKDAY
DESCRIPTION:En co-organisation avec MUSTANG THERAPY d’un week-end roulage les 07 & 08 juin 2025. \nOrganisation en cours\, plus d’information à venir. Lien FORUM : Mustang TRACKDAY les 07 et 08 juin 2025 \nLien Forum dédié au bénévolat : ICI
URL:https://mustangpassion.fr/event/mustang-trackday/
LOCATION:Circuit de Mornay (23)\, France
CATEGORIES:Sorties Club
ATTACH;FMTTYPE=image/jpeg:https://mustangpassion.fr/wp-content/uploads/2024/10/pre-affiche-MPF-2025-5.jpg
END:VEVENT
BEGIN:VEVENT
DTSTART;VALUE=DATE:20250615
DTEND;VALUE=DATE:20250616
DTSTAMP:20260422T190230
CREATED:20240926T115515Z
LAST-MODIFIED:20250401T135306Z
UID:1389-1749945600-1750031999@mustangpassion.fr
SUMMARY:IDF (77) : FESTIVAL AMERICAIN
DESCRIPTION:Evènement annuel en collaboration de la mairie de Roissy En Brie. \nPlus d’information à venir. \nLien vers le Forum MPF
URL:https://mustangpassion.fr/event/festival-americain-roissy-en-brie-77/
LOCATION:ROISSY EN BRIE 77
CATEGORIES:Sorties Club
ATTACH;FMTTYPE=image/jpeg:https://mustangpassion.fr/wp-content/uploads/2024/09/Festival-Roissy.jpg
END:VEVENT
END:VCALENDAR