BEGIN:VCALENDAR
VERSION:2.0
PRODID:-//Mustang Passion France - ECPv6.15.20//NONSGML v1.0//EN
CALSCALE:GREGORIAN
METHOD:PUBLISH
X-ORIGINAL-URL:https://mustangpassion.fr
X-WR-CALDESC:Évènements pour Mustang Passion France
REFRESH-INTERVAL;VALUE=DURATION:PT1H
X-Robots-Tag:noindex
X-PUBLISHED-TTL:PT1H
BEGIN:VTIMEZONE
TZID:Europe/Paris
BEGIN:DAYLIGHT
TZOFFSETFROM:+0100
TZOFFSETTO:+0200
TZNAME:CEST
DTSTART:20240331T010000
END:DAYLIGHT
BEGIN:STANDARD
TZOFFSETFROM:+0200
TZOFFSETTO:+0100
TZNAME:CET
DTSTART:20241027T010000
END:STANDARD
BEGIN:DAYLIGHT
TZOFFSETFROM:+0100
TZOFFSETTO:+0200
TZNAME:CEST
DTSTART:20250330T010000
END:DAYLIGHT
BEGIN:STANDARD
TZOFFSETFROM:+0200
TZOFFSETTO:+0100
TZNAME:CET
DTSTART:20251026T010000
END:STANDARD
BEGIN:DAYLIGHT
TZOFFSETFROM:+0100
TZOFFSETTO:+0200
TZNAME:CEST
DTSTART:20260329T010000
END:DAYLIGHT
BEGIN:STANDARD
TZOFFSETFROM:+0200
TZOFFSETTO:+0100
TZNAME:CET
DTSTART:20261025T010000
END:STANDARD
END:VTIMEZONE
BEGIN:VEVENT
DTSTART;VALUE=DATE:20250316
DTEND;VALUE=DATE:20250317
DTSTAMP:20260424T113152
CREATED:20241020T141148Z
LAST-MODIFIED:20250205T122958Z
UID:1563-1742083200-1742169599@mustangpassion.fr
SUMMARY:IDF (78 & 95) : FOX RUN 2025 SUR LES BOUCLES DE LA SEINE
DESCRIPTION:Plus d’information à venir\, organisation en cours\, réservez d’ores et déjà cette date dans votre agenda \nLien vers le Forum MPF \n 
URL:https://mustangpassion.fr/event/fox-run-2025/
CATEGORIES:Sorties Club
ATTACH;FMTTYPE=image/jpeg:https://mustangpassion.fr/wp-content/uploads/2024/10/FOX-RUN-2025.jpg
END:VEVENT
BEGIN:VEVENT
DTSTART;TZID=Europe/Paris:20250323T090000
DTEND;TZID=Europe/Paris:20250323T120000
DTSTAMP:20260424T113152
CREATED:20250317T094539Z
LAST-MODIFIED:20250317T095453Z
UID:2375-1742720400-1742731200@mustangpassion.fr
SUMMARY:HDF NEUVILLE EN FERRAIN (59) : Rassemblement mensuel
DESCRIPTION:Rassemblement mensuel de notre délégation Hauts De France en collaboration avec le club LE SUNDAY sur la parking AUTOSHOPPING à NEUVILLE EN FERRAIN. \nGRATUIT \nPour plus de renseignement contactez notre délégué régional Arnaud sur Hautsdefrance@mustangpassion.fr
URL:https://mustangpassion.fr/event/hdf-rassemblement-mensuel-neuville-en-ferrain-59/
CATEGORIES:Evénement Club,Sorties Club
ATTACH;FMTTYPE=image/jpeg:https://mustangpassion.fr/wp-content/uploads/2025/03/Rasso-HDF.jpg
END:VEVENT
BEGIN:VEVENT
DTSTART;TZID=Europe/Paris:20250323T100000
DTEND;TZID=Europe/Paris:20250323T120000
DTSTAMP:20260424T113152
CREATED:20250217T110711Z
LAST-MODIFIED:20250322T144030Z
UID:2299-1742724000-1742731200@mustangpassion.fr
SUMMARY:IDF MONTIGNY LE BRETONNEUX 78 : PREMIER MENSUEL IDF OUEST
DESCRIPTION:suite à des échanges précédents je vous propose d’organiser une mensuelle IDF OUEST sur le site de la Ferme du Manet 78. \nLieu = 61 Av. du Manet\, 78180 Montigny-le-Bretonneux le dimanche matin \nCafé thé et viennoiseries avec mon accueil sur place à partir de 10H à 12H\nVincent MAJOIS Délégué IDF Ouest \nLien Forum : ICI
URL:https://mustangpassion.fr/event/idf-montigny-le-bretonneux-78-premier-mensuel-idf-ouest/
CATEGORIES:Sorties Club
ATTACH;FMTTYPE=image/jpeg:https://mustangpassion.fr/wp-content/uploads/2025/03/IDF-Ouest.jpg
END:VEVENT
END:VCALENDAR