BEGIN:VCALENDAR
VERSION:2.0
PRODID:-//Mustang Passion France - ECPv6.15.20//NONSGML v1.0//EN
CALSCALE:GREGORIAN
METHOD:PUBLISH
X-ORIGINAL-URL:https://mustangpassion.fr
X-WR-CALDESC:Évènements pour Mustang Passion France
REFRESH-INTERVAL;VALUE=DURATION:PT1H
X-Robots-Tag:noindex
X-PUBLISHED-TTL:PT1H
BEGIN:VTIMEZONE
TZID:Europe/Paris
BEGIN:DAYLIGHT
TZOFFSETFROM:+0100
TZOFFSETTO:+0200
TZNAME:CEST
DTSTART:20240331T010000
END:DAYLIGHT
BEGIN:STANDARD
TZOFFSETFROM:+0200
TZOFFSETTO:+0100
TZNAME:CET
DTSTART:20241027T010000
END:STANDARD
BEGIN:DAYLIGHT
TZOFFSETFROM:+0100
TZOFFSETTO:+0200
TZNAME:CEST
DTSTART:20250330T010000
END:DAYLIGHT
BEGIN:STANDARD
TZOFFSETFROM:+0200
TZOFFSETTO:+0100
TZNAME:CET
DTSTART:20251026T010000
END:STANDARD
BEGIN:DAYLIGHT
TZOFFSETFROM:+0100
TZOFFSETTO:+0200
TZNAME:CEST
DTSTART:20260329T010000
END:DAYLIGHT
BEGIN:STANDARD
TZOFFSETFROM:+0200
TZOFFSETTO:+0100
TZNAME:CET
DTSTART:20261025T010000
END:STANDARD
END:VTIMEZONE
BEGIN:VEVENT
DTSTART;VALUE=DATE:20250126
DTEND;VALUE=DATE:20250127
DTSTAMP:20260421T152412
CREATED:20240926T095211Z
LAST-MODIFIED:20241230T110836Z
UID:1370-1737849600-1737935999@mustangpassion.fr
SUMMARY:AG du club MPF
DESCRIPTION:Notre AG est en cours d’organisation. Elle se déroulera comme habituellement au Golf de Forges les bains (91). Plus d’information à venir \nLien vers le Forum MPF
URL:https://mustangpassion.fr/event/ag-du-club-mpf/
CATEGORIES:Evénement Club,Sorties Club
ATTACH;FMTTYPE=image/jpeg:https://mustangpassion.fr/wp-content/uploads/2024/09/AG.jpg
END:VEVENT
END:VCALENDAR