BEGIN:VCALENDAR
VERSION:2.0
PRODID:-//Mustang Passion France - ECPv6.15.20//NONSGML v1.0//EN
CALSCALE:GREGORIAN
METHOD:PUBLISH
X-ORIGINAL-URL:https://mustangpassion.fr
X-WR-CALDESC:Évènements pour Mustang Passion France
REFRESH-INTERVAL;VALUE=DURATION:PT1H
X-Robots-Tag:noindex
X-PUBLISHED-TTL:PT1H
BEGIN:VTIMEZONE
TZID:Europe/Paris
BEGIN:DAYLIGHT
TZOFFSETFROM:+0100
TZOFFSETTO:+0200
TZNAME:CEST
DTSTART:20230326T010000
END:DAYLIGHT
BEGIN:STANDARD
TZOFFSETFROM:+0200
TZOFFSETTO:+0100
TZNAME:CET
DTSTART:20231029T010000
END:STANDARD
BEGIN:DAYLIGHT
TZOFFSETFROM:+0100
TZOFFSETTO:+0200
TZNAME:CEST
DTSTART:20240331T010000
END:DAYLIGHT
BEGIN:STANDARD
TZOFFSETFROM:+0200
TZOFFSETTO:+0100
TZNAME:CET
DTSTART:20241027T010000
END:STANDARD
BEGIN:DAYLIGHT
TZOFFSETFROM:+0100
TZOFFSETTO:+0200
TZNAME:CEST
DTSTART:20250330T010000
END:DAYLIGHT
BEGIN:STANDARD
TZOFFSETFROM:+0200
TZOFFSETTO:+0100
TZNAME:CET
DTSTART:20251026T010000
END:STANDARD
END:VTIMEZONE
BEGIN:VEVENT
DTSTART;TZID=Europe/Paris:20240926T080000
DTEND;TZID=Europe/Paris:20240926T170000
DTSTAMP:20260422T022135
CREATED:20240926T120128Z
LAST-MODIFIED:20240927T154517Z
UID:1391-1727337600-1727370000@mustangpassion.fr
SUMMARY:AUTO RETRO 2024 BRAY SUR SEINE
DESCRIPTION:Cliquez sur le titre de l’événement pour accéder à la globalité du contenu. \nEdition 2024 avec la Mustang à l’honneur pour ses 60ans. Le club aura son espace le dimanche\, merci de vous manifester si vous souhaitez être présent pour dimensionner notre surface. \nLien vers le Forum MPF
URL:https://mustangpassion.fr/event/auto-retro-2024-braye-sur-seine/
LOCATION:Bray sur Seine 77
CATEGORIES:Evénement Club
ATTACH;FMTTYPE=image/jpeg:https://mustangpassion.fr/wp-content/uploads/2024/09/Bray-sur-Seine.jpg
END:VEVENT
END:VCALENDAR