BEGIN:VCALENDAR
VERSION:2.0
PRODID:-//Mustang Passion France - ECPv6.15.20//NONSGML v1.0//EN
CALSCALE:GREGORIAN
METHOD:PUBLISH
X-ORIGINAL-URL:https://mustangpassion.fr
X-WR-CALDESC:Évènements pour Mustang Passion France
REFRESH-INTERVAL;VALUE=DURATION:PT1H
X-Robots-Tag:noindex
X-PUBLISHED-TTL:PT1H
BEGIN:VTIMEZONE
TZID:Europe/Paris
BEGIN:DAYLIGHT
TZOFFSETFROM:+0100
TZOFFSETTO:+0200
TZNAME:CEST
DTSTART:20240331T010000
END:DAYLIGHT
BEGIN:STANDARD
TZOFFSETFROM:+0200
TZOFFSETTO:+0100
TZNAME:CET
DTSTART:20241027T010000
END:STANDARD
BEGIN:DAYLIGHT
TZOFFSETFROM:+0100
TZOFFSETTO:+0200
TZNAME:CEST
DTSTART:20250330T010000
END:DAYLIGHT
BEGIN:STANDARD
TZOFFSETFROM:+0200
TZOFFSETTO:+0100
TZNAME:CET
DTSTART:20251026T010000
END:STANDARD
BEGIN:DAYLIGHT
TZOFFSETFROM:+0100
TZOFFSETTO:+0200
TZNAME:CEST
DTSTART:20260329T010000
END:DAYLIGHT
BEGIN:STANDARD
TZOFFSETFROM:+0200
TZOFFSETTO:+0100
TZNAME:CET
DTSTART:20261025T010000
END:STANDARD
END:VTIMEZONE
BEGIN:VEVENT
DTSTART;VALUE=DATE:20251220
DTEND;VALUE=DATE:20251221
DTSTAMP:20260420T223142
CREATED:20251121T223156Z
LAST-MODIFIED:20251121T223612Z
UID:2913-1766188800-1766275199@mustangpassion.fr
SUMMARY:PACA : Cruising de Noël en voitures américaines
DESCRIPTION:Le rendez-vous aura lieu à 09h30 sur l’aire de covoiturage de 83150 Bandol\, rond-point Alphonse Juin 43°08’31˝N – 005°46’08˝E.\nDécoration des voitures\, pilote et passagers. Pensez à prendre quelques bonbons si nous croisons des enfants lors de la parade. \nCAFE ET CROISSANTS OFFERTS.\nDébut de la parade vers 10h : Bandol\, bord de mer\, Sanary\, le Brusc\, le Gaou et retour vers le restaurant LA SPIAGGIA au Brusc 83140 SIX FOURS LES PLAGES ;\nhttps://maps.app.goo.gl/2KdqZjjStEQHz8m69\nConfirmation de votre participation par retour de mail avant le lundi 15 décembre 2025 en précisant le nombre de personnes pour la parade et le restaurant – nous informer si allergie ou\nintolérance alimentaire.\nLes costumes\, déguisements et décorations des voitures ne sont pas fournis par le club.\nVous avez le choix : Père ou Mère Noël\, lutin\, ange\, reine\, bonhomme de neige\, etc.\nVous pouvez vous approvisionner dans les commerces de proximité du type FARFOUILLE\, GIFI\, FNAC et pour ceux qui veulent du durable il faut se fournir dans un magasin de déguisement.\nPour décorer la voiture\, rien de plus simple : quelques guirlandes scotchées sous le capot et le coffre ou fixées avec de petites ventouses. Attention les guirlandes lumineuses sont très mal vues\npar les forces de l’ordre !!!
URL:https://mustangpassion.fr/event/paca-cruising-de-noel-en-voitures-americaines/
CATEGORIES:Evénement Club,Sorties Club
ATTACH;FMTTYPE=image/png:https://mustangpassion.fr/wp-content/uploads/2025/11/PACA-NOEL.png
END:VEVENT
END:VCALENDAR