BEGIN:VCALENDAR
VERSION:2.0
PRODID:-//Mustang Passion France - ECPv6.15.20//NONSGML v1.0//EN
CALSCALE:GREGORIAN
METHOD:PUBLISH
X-WR-CALNAME:Mustang Passion France
X-ORIGINAL-URL:https://mustangpassion.fr
X-WR-CALDESC:Évènements pour Mustang Passion France
REFRESH-INTERVAL;VALUE=DURATION:PT1H
X-Robots-Tag:noindex
X-PUBLISHED-TTL:PT1H
BEGIN:VTIMEZONE
TZID:Europe/Paris
BEGIN:DAYLIGHT
TZOFFSETFROM:+0100
TZOFFSETTO:+0200
TZNAME:CEST
DTSTART:20250330T010000
END:DAYLIGHT
BEGIN:STANDARD
TZOFFSETFROM:+0200
TZOFFSETTO:+0100
TZNAME:CET
DTSTART:20251026T010000
END:STANDARD
BEGIN:DAYLIGHT
TZOFFSETFROM:+0100
TZOFFSETTO:+0200
TZNAME:CEST
DTSTART:20260329T010000
END:DAYLIGHT
BEGIN:STANDARD
TZOFFSETFROM:+0200
TZOFFSETTO:+0100
TZNAME:CET
DTSTART:20261025T010000
END:STANDARD
BEGIN:DAYLIGHT
TZOFFSETFROM:+0100
TZOFFSETTO:+0200
TZNAME:CEST
DTSTART:20270328T010000
END:DAYLIGHT
BEGIN:STANDARD
TZOFFSETFROM:+0200
TZOFFSETTO:+0100
TZNAME:CET
DTSTART:20271031T010000
END:STANDARD
END:VTIMEZONE
BEGIN:VEVENT
DTSTART;VALUE=DATE:20260829
DTEND;VALUE=DATE:20260831
DTSTAMP:20260423T033811
CREATED:20251219T212516Z
LAST-MODIFIED:20251219T212516Z
UID:3001-1787961600-1788134399@mustangpassion.fr
SUMMARY:RETROFESTIVAL CAEN
DESCRIPTION:Un événement réputé se déroulant au mois d’août\nAu programme\, une parade en centre ville\, rallye touristique et randoinnée\, concours d’état\, vente aux enchères\, concours d’élégance\, circuit de la prairie\,
URL:https://mustangpassion.fr/event/retrofestival-caen/
CATEGORIES:Sorties Club
ATTACH;FMTTYPE=image/png:https://mustangpassion.fr/wp-content/uploads/2025/12/CAEN.png
END:VEVENT
BEGIN:VEVENT
DTSTART;VALUE=DATE:20260829
DTEND;VALUE=DATE:20260831
DTSTAMP:20260423T033811
CREATED:20251219T213222Z
LAST-MODIFIED:20251219T213222Z
UID:3007-1787961600-1788134399@mustangpassion.fr
SUMMARY:LES DIX MILLE TOURS DU CASTELLET
DESCRIPTION:DIX MILLE TOURS 2026 : CAP SUR LE PAUL RICARD !\nLe Circuit Paul Ricard accueillera la 16ᵉ édition des Dix Mille Tours\, l’un des rendez-vous majeurs de la saison Le Mans Classic Series. \nOrganisé par Peter Auto depuis 2010\, l’événement réunit chaque année plusieurs centaines de voitures de compétition historique.\nDix plateaux seront en piste pour cette édition\, dont le tout nouveau HTC 2\, dédié aux voitures de tourisme des années 1982 à 1992.\nUn panorama unique de plus d’un demi-siècle de sport automobile\, des années 1950 aux années 2000. \nComme sur l’ensemble des meetings de la saison\, les courses seront retransmises en direct\, permettant au public de suivre l’action au plus près\, sur place ou à distance. \nAutour de la piste\, les spectateurs retrouveront le village d’exposants\, des animations\, des expositions et les gridwalks pour les plus chanceux !\nLes espaces clubs rassembleront plus de 500 voitures\, offrant un large aperçu du patrimoine automobile dans une atmosphère conviviale. \nPour ceux qui souhaitent vivre le week-end au cœur de l’événement\, les Hospitalités VIP donnent accès aux paddocks\, aux tribunes et aux plus beaux points de vue du circuit\, au plus près des pilotes et de leurs voitures. \nUn week-end placé sous le signe de la performance\, du partage et de la passion automobile.\nAccès libre tribune Grand Prix Burger (Xtrem Park) – Accès paddock payant
URL:https://mustangpassion.fr/event/les-dix-mille-tours-du-castellet/
CATEGORIES:Sorties Club
ATTACH;FMTTYPE=image/jpeg:https://mustangpassion.fr/wp-content/uploads/2025/12/10000.jpg
END:VEVENT
END:VCALENDAR