BEGIN:VCALENDAR
VERSION:2.0
PRODID:-//Mustang Passion France - ECPv6.15.20//NONSGML v1.0//EN
CALSCALE:GREGORIAN
METHOD:PUBLISH
X-ORIGINAL-URL:https://mustangpassion.fr
X-WR-CALDESC:Évènements pour Mustang Passion France
REFRESH-INTERVAL;VALUE=DURATION:PT1H
X-Robots-Tag:noindex
X-PUBLISHED-TTL:PT1H
BEGIN:VTIMEZONE
TZID:Europe/Paris
BEGIN:DAYLIGHT
TZOFFSETFROM:+0100
TZOFFSETTO:+0200
TZNAME:CEST
DTSTART:20250330T010000
END:DAYLIGHT
BEGIN:STANDARD
TZOFFSETFROM:+0200
TZOFFSETTO:+0100
TZNAME:CET
DTSTART:20251026T010000
END:STANDARD
BEGIN:DAYLIGHT
TZOFFSETFROM:+0100
TZOFFSETTO:+0200
TZNAME:CEST
DTSTART:20260329T010000
END:DAYLIGHT
BEGIN:STANDARD
TZOFFSETFROM:+0200
TZOFFSETTO:+0100
TZNAME:CET
DTSTART:20261025T010000
END:STANDARD
BEGIN:DAYLIGHT
TZOFFSETFROM:+0100
TZOFFSETTO:+0200
TZNAME:CEST
DTSTART:20270328T010000
END:DAYLIGHT
BEGIN:STANDARD
TZOFFSETFROM:+0200
TZOFFSETTO:+0100
TZNAME:CET
DTSTART:20271031T010000
END:STANDARD
END:VTIMEZONE
BEGIN:VEVENT
DTSTART;VALUE=DATE:20260530
DTEND;VALUE=DATE:20260601
DTSTAMP:20260422T140054
CREATED:20251219T205455Z
LAST-MODIFIED:20251219T212646Z
UID:2987-1780099200-1780271999@mustangpassion.fr
SUMMARY:AUBAMERICAN DAY'S - RASSEMBLEMENT US
DESCRIPTION:Date : Du 30/05/2026 au 31/05/2026\nLieu : 10500 Brienne-le-Château\nSite Internet : https://www.facebook.com/groups/183318207548003\nAubamerican Day’s – Rassemblement US à Brienne-le-Château à l’est de Troyes.\nLes 30 et 31 mai 2026\, l’aérodrome de Brienne-le-Château se transforme en un véritable temple de la culture américaine !\nPassionnés de belles mécaniques\, amateurs de shows spectaculaires et amoureux de l’ambiance US\, cet événement est fait pour vous !\nUn programme exceptionnel sur 2 jours !\nPlus de 1000 véhicules américains : muscle cars\, classiques\, camions\, motos… Une immersion totale dans l’univers automobile des États-Unis.
URL:https://mustangpassion.fr/event/aubamerican-days-rassemblement-us/
CATEGORIES:Sorties Club
ATTACH;FMTTYPE=image/jpeg:https://mustangpassion.fr/wp-content/uploads/2025/12/Aubamerican-day.jpg
END:VEVENT
BEGIN:VEVENT
DTSTART;VALUE=DATE:20260531
DTEND;VALUE=DATE:20260601
DTSTAMP:20260422T140054
CREATED:20260414T064850Z
LAST-MODIFIED:20260414T132518Z
UID:3567-1780185600-1780271999@mustangpassion.fr
SUMMARY:SAINT OUEN EN BRIE (77) VIDE GRENIER
DESCRIPTION:L’association de la mairie gérant le vide grenier nous demande la présence du club pour ce statique \nPlus d’information dans vos messageries.
URL:https://mustangpassion.fr/event/saint-ouen-en-brie-77-vide-grenier/
CATEGORIES:Présence Club
ATTACH;FMTTYPE=image/jpeg:https://mustangpassion.fr/wp-content/uploads/2026/04/affiche.jpeg
END:VEVENT
END:VCALENDAR