BEGIN:VCALENDAR
VERSION:2.0
PRODID:-//Mustang Passion France - ECPv6.15.20//NONSGML v1.0//EN
CALSCALE:GREGORIAN
METHOD:PUBLISH
X-ORIGINAL-URL:https://mustangpassion.fr
X-WR-CALDESC:Évènements pour Mustang Passion France
REFRESH-INTERVAL;VALUE=DURATION:PT1H
X-Robots-Tag:noindex
X-PUBLISHED-TTL:PT1H
BEGIN:VTIMEZONE
TZID:Europe/Paris
BEGIN:DAYLIGHT
TZOFFSETFROM:+0100
TZOFFSETTO:+0200
TZNAME:CEST
DTSTART:20250330T010000
END:DAYLIGHT
BEGIN:STANDARD
TZOFFSETFROM:+0200
TZOFFSETTO:+0100
TZNAME:CET
DTSTART:20251026T010000
END:STANDARD
BEGIN:DAYLIGHT
TZOFFSETFROM:+0100
TZOFFSETTO:+0200
TZNAME:CEST
DTSTART:20260329T010000
END:DAYLIGHT
BEGIN:STANDARD
TZOFFSETFROM:+0200
TZOFFSETTO:+0100
TZNAME:CET
DTSTART:20261025T010000
END:STANDARD
BEGIN:DAYLIGHT
TZOFFSETFROM:+0100
TZOFFSETTO:+0200
TZNAME:CEST
DTSTART:20270328T010000
END:DAYLIGHT
BEGIN:STANDARD
TZOFFSETFROM:+0200
TZOFFSETTO:+0100
TZNAME:CET
DTSTART:20271031T010000
END:STANDARD
END:VTIMEZONE
BEGIN:VEVENT
DTSTART;VALUE=DATE:20260411
DTEND;VALUE=DATE:20260412
DTSTAMP:20260422T125111
CREATED:20260213T213310Z
LAST-MODIFIED:20260213T213310Z
UID:3103-1775865600-1775951999@mustangpassion.fr
SUMMARY:JOURNEE EXPERTISE AXA ORLEANS ET OLD STAR GARAGE
DESCRIPTION:Nos partenaires réitérent au regard du succés de 2025 une journée expertise pour notre club au prix de 130€/voiture. \nLes expertises se dérouleront chez OLD STAR GARAGE \nPost forum ici
URL:https://mustangpassion.fr/event/journee-expertise-axa-orleans-et-old-star-garage/
ATTACH;FMTTYPE=image/jpeg:https://mustangpassion.fr/wp-content/uploads/2026/02/Expertise.jpg
END:VEVENT
END:VCALENDAR